BEGIN:VCALENDAR
VERSION:2.0
PRODID:icalendar-ruby
CALSCALE:GREGORIAN
METHOD:PUBLISH
BEGIN:VEVENT
DTSTAMP:20260424T235312Z
UID:5-428820@thedallesumc.org
DTSTART:20261101T180000Z
DTEND:20261101T190000Z
CLASS:PUBLIC
CREATED:20260424T141943
DESCRIPTION:Sunday Worship
LAST-MODIFIED:20260424T141943
LOCATION:
SUMMARY:Sunday Worship
URL;VALUE=URI:https://thedallesumc.org/events/sunday-worship/2026-11-01
END:VEVENT
END:VCALENDAR
